BEGIN:VCALENDAR
VERSION:2.0
PRODID:-//91.233.84.230//NONSGML kigkonsult.se iCalcreator 2.20//
CALSCALE:GREGORIAN
METHOD:PUBLISH
X-WR-TIMEZONE:UTC
BEGIN:VEVENT
UID:event1245@Nationalparkgemeinde Vöhl am Edersee
DTSTAMP:20260421T075028Z
CATEGORIES:Sonstige
DESCRIPTION:Aktion Saubere Landschaft \nKategorie: Sonstige\nICS-Link: http
 s://www.voehl.eu/index.php?option=com_jem&view=event&id=1245:aktion-sauber
 e-landschaft\n
DTSTART;VALUE=DATE:20260314
DTEND;VALUE=DATE:20260315
LOCATION:Ortsteil Vöhl
SUMMARY:Aktion Saubere Landschaft 
URL:https://www.voehl.eu/index.php?option=com_jem&view=event&id=1245:aktion
 -saubere-landschaft
END:VEVENT
BEGIN:VEVENT
UID:event1071@Nationalparkgemeinde Vöhl am Edersee
DTSTAMP:20260421T075028Z
CATEGORIES:Feuerwehren
DESCRIPTION:Einsammeln der Weihnachtsbäume Freiwillige Feuerwehr Vöhl\nKate
 gorie: Feuerwehren\nICS-Link: https://www.voehl.eu/index.php?option=com_je
 m&view=event&id=1071:einsammeln-der-weihnachtsbaeume-freiwillige-feuerwehr
 -voehl\n
DTSTART;VALUE=DATE:20260110
DTEND;VALUE=DATE:20260111
LOCATION:Ortsteil Vöhl
SUMMARY:Einsammeln der Weihnachtsbäume Freiwillige Feuerwehr Vöhl
URL:https://www.voehl.eu/index.php?option=com_jem&view=event&id=1071:einsam
 meln-der-weihnachtsbaeume-freiwillige-feuerwehr-voehl
END:VEVENT
BEGIN:VEVENT
UID:event1271@Nationalparkgemeinde Vöhl am Edersee
DTSTAMP:20260421T075028Z
CATEGORIES:Sonstige
DESCRIPTION:Osterfeuer Vöhl\nKategorie: Sonstige\nICS-Link: https://www.voe
 hl.eu/index.php?option=com_jem&view=event&id=1271:osterfeuer-voehl\n
DTSTART;VALUE=DATE:20260404
DTEND;VALUE=DATE:20260405
LOCATION:Ortsteil Vöhl
SUMMARY:Osterfeuer Vöhl
URL:https://www.voehl.eu/index.php?option=com_jem&view=event&id=1271:osterf
 euer-voehl
END:VEVENT
BEGIN:VEVENT
UID:event1008@Nationalparkgemeinde Vöhl am Edersee
DTSTAMP:20260421T075028Z
CATEGORIES:Feste in den Ortsteilen
DESCRIPTION:Vatertag an Müllershäuschen\nKategorie: Feste in den Ortsteilen
 \nICS-Link: https://www.voehl.eu/index.php?option=com_jem&view=event&id=10
 08:vatertag-an-muellershaeuschen\n
DTSTART:20250529T110000Z
DTEND:20250529T110000Z
LOCATION:Ortsteil Vöhl
SUMMARY:Vatertag an Müllershäuschen
URL:https://www.voehl.eu/index.php?option=com_jem&view=event&id=1008:vatert
 ag-an-muellershaeuschen
END:VEVENT
BEGIN:VEVENT
UID:event976@Nationalparkgemeinde Vöhl am Edersee
DTSTAMP:20260421T075028Z
CATEGORIES:Sonstige
DESCRIPTION:Osterfeuer Vöhl\nKategorie: Sonstige\nICS-Link: https://www.voe
 hl.eu/index.php?option=com_jem&view=event&id=976:osterfeuer-voehl\n
DTSTART:20250419T190000Z
DTEND:20250419T190000Z
LOCATION:Ortsteil Vöhl
SUMMARY:Osterfeuer Vöhl
URL:https://www.voehl.eu/index.php?option=com_jem&view=event&id=976:osterfe
 uer-voehl
END:VEVENT
END:VCALENDAR